BEGIN:VCALENDAR
VERSION:2.0
PRODID:-//Ausilio - ECPv6.15.11//NONSGML v1.0//EN
CALSCALE:GREGORIAN
METHOD:PUBLISH
X-WR-CALNAME:Ausilio
X-ORIGINAL-URL:https://www.ausilio.it
X-WR-CALDESC:Eventi per Ausilio
REFRESH-INTERVAL;VALUE=DURATION:PT1H
X-Robots-Tag:noindex
X-PUBLISHED-TTL:PT1H
BEGIN:VTIMEZONE
TZID:Europe/Rome
BEGIN:DAYLIGHT
TZOFFSETFROM:+0100
TZOFFSETTO:+0200
TZNAME:CEST
DTSTART:20220327T010000
END:DAYLIGHT
BEGIN:STANDARD
TZOFFSETFROM:+0200
TZOFFSETTO:+0100
TZNAME:CET
DTSTART:20221030T010000
END:STANDARD
BEGIN:DAYLIGHT
TZOFFSETFROM:+0100
TZOFFSETTO:+0200
TZNAME:CEST
DTSTART:20230326T010000
END:DAYLIGHT
BEGIN:STANDARD
TZOFFSETFROM:+0200
TZOFFSETTO:+0100
TZNAME:CET
DTSTART:20231029T010000
END:STANDARD
BEGIN:DAYLIGHT
TZOFFSETFROM:+0100
TZOFFSETTO:+0200
TZNAME:CEST
DTSTART:20240331T010000
END:DAYLIGHT
BEGIN:STANDARD
TZOFFSETFROM:+0200
TZOFFSETTO:+0100
TZNAME:CET
DTSTART:20241027T010000
END:STANDARD
END:VTIMEZONE
BEGIN:VEVENT
DTSTART;TZID=Europe/Rome:20230517T083000
DTEND;TZID=Europe/Rome:20230517T153000
DTSTAMP:20260423T195558
CREATED:20230414T080353Z
LAST-MODIFIED:20230414T104518Z
UID:6721-1684312200-1684337400@www.ausilio.it
SUMMARY:Corso Misto Lavoratori (1 giornata)
DESCRIPTION:Corso Misto Lavoratori \nNella prima giornata è previsto l’aggiornamento lavoratori e le prime 6 ore della formazione specifica Rischio Alto. \nPrezzi del corso: \n\nFormazione Specifica Rischio Alto 175 € cad.\nAggiornamento Lavoratori 95 € cad.\n\nIl corso si svolgerà dalle 08.30 alle 12.30 e dalle 13.30 alle 15.30\nIl corso verrà erogato da un docente qualificato e prevede il rilascio di un attestato.\nLa validità della formazione prevede la frequenza del 90%. \n  \nMODULO DI ISCRIZIONE \nhttps://www.ausilio.it/wp-content/uploads/2023/04/MODULO-CORSO-MAGGIO.pdf
URL:https://www.ausilio.it/corso/corso-misto-lavoratori-1-giornata/
LOCATION:Poliambulatorio Mediservice\, Via Costanzo II\, 11\, Forlì\, FC\, 47122\, Italy
CATEGORIES:Lavoratori
ATTACH;FMTTYPE=image/jpeg:https://www.ausilio.it/wp-content/uploads/2023/03/Lavoratori.jpg
END:VEVENT
BEGIN:VEVENT
DTSTART;TZID=Europe/Rome:20230518T083000
DTEND;TZID=Europe/Rome:20230518T153000
DTSTAMP:20260423T195558
CREATED:20230414T080353Z
LAST-MODIFIED:20230426T145145Z
UID:6722-1684398600-1684423800@www.ausilio.it
SUMMARY:Corso Misto Lavoratori (2 giornata)
DESCRIPTION:Corso Misto Lavoratori \nNella seconda giornata è prevista la formazione specifica Rischio Alto. \nPrezzi del corso: \n\nFormazione Specifica Rischio Alto 175 € cad.\nAggiornamento Lavoratori 95 € cad.\n\nIl corso si svolgerà dalle 08.30 alle 12.30 e dalle 13.30 alle 15.30\nIl corso verrà erogato da un docente qualificato e prevede il rilascio di un attestato.\nLa validità della formazione prevede la frequenza del 90%. \n  \nMODULO DI ISCRIZIONE \nhttps://www.ausilio.it/wp-content/uploads/2023/04/MODULO-CORSO-MAGGIO.pdf \n 
URL:https://www.ausilio.it/corso/corso-misto-lavoratori-2-giornata-2/
LOCATION:Poliambulatorio Mediservice\, Via Costanzo II\, 11\, Forlì\, FC\, 47122\, Italy
CATEGORIES:Lavoratori
ATTACH;FMTTYPE=image/jpeg:https://www.ausilio.it/wp-content/uploads/2023/03/Lavoratori.jpg
END:VEVENT
BEGIN:VEVENT
DTSTART;TZID=Europe/Rome:20230522T083000
DTEND;TZID=Europe/Rome:20230522T173000
DTSTAMP:20260423T195558
CREATED:20230516T101901Z
LAST-MODIFIED:20230516T102718Z
UID:6777-1684744200-1684776600@www.ausilio.it
SUMMARY:Formazione Generale + Specifica Rischio Medio
DESCRIPTION:Corso Formazione Generale + Specifica Rischio Medio \n22/05/2023  dalle 08.30 alle 12.30 e dalle 13.30 alle 15.50 (8 ore) \n23/05/2023 dalle 08.30 alle 12.30 (4 ore) \n  \nCosto del corso: \n\n160 € cad. comprensivo di materiale\, test e attestato.\n\nIl corso verrà erogato da un docente qualificato e prevede il rilascio di un attestato.\nLa validità della formazione prevede la frequenza del 90%. \nMODULO DI ISCRIZIONE \nhttps://www.ausilio.it/wp-content/uploads/2023/05/MODULO-CORSO-generale-rischio-medio.pdf
URL:https://www.ausilio.it/corso/formazione-generale-specifica-rischio-medio/
LOCATION:Poliambulatorio Mediservice\, Via Costanzo II\, 11\, Forlì\, FC\, 47122\, Italy
CATEGORIES:Lavoratori
ATTACH;FMTTYPE=image/jpeg:https://www.ausilio.it/wp-content/uploads/2023/03/Lavoratori.jpg
END:VEVENT
END:VCALENDAR