BEGIN:VCALENDAR
VERSION:2.0
PRODID:-//Ausilio - ECPv6.15.11//NONSGML v1.0//EN
CALSCALE:GREGORIAN
METHOD:PUBLISH
X-WR-CALNAME:Ausilio
X-ORIGINAL-URL:https://www.ausilio.it
X-WR-CALDESC:Eventi per Ausilio
REFRESH-INTERVAL;VALUE=DURATION:PT1H
X-Robots-Tag:noindex
X-PUBLISHED-TTL:PT1H
BEGIN:VTIMEZONE
TZID:Europe/Rome
BEGIN:DAYLIGHT
TZOFFSETFROM:+0100
TZOFFSETTO:+0200
TZNAME:CEST
DTSTART:20220327T010000
END:DAYLIGHT
BEGIN:STANDARD
TZOFFSETFROM:+0200
TZOFFSETTO:+0100
TZNAME:CET
DTSTART:20221030T010000
END:STANDARD
BEGIN:DAYLIGHT
TZOFFSETFROM:+0100
TZOFFSETTO:+0200
TZNAME:CEST
DTSTART:20230326T010000
END:DAYLIGHT
BEGIN:STANDARD
TZOFFSETFROM:+0200
TZOFFSETTO:+0100
TZNAME:CET
DTSTART:20231029T010000
END:STANDARD
BEGIN:DAYLIGHT
TZOFFSETFROM:+0100
TZOFFSETTO:+0200
TZNAME:CEST
DTSTART:20240331T010000
END:DAYLIGHT
BEGIN:STANDARD
TZOFFSETFROM:+0200
TZOFFSETTO:+0100
TZNAME:CET
DTSTART:20241027T010000
END:STANDARD
END:VTIMEZONE
BEGIN:VEVENT
DTSTART;TZID=Europe/Rome:20230606T083000
DTEND;TZID=Europe/Rome:20230606T173000
DTSTAMP:20260423T182109
CREATED:20230522T092144Z
LAST-MODIFIED:20230522T093336Z
UID:6789-1686040200-1686072600@www.ausilio.it
SUMMARY:Corso Misto Lavoratori (1 giornata)
DESCRIPTION:Corso Misto Lavoratori (recupero corso del 17 e 18 Maggio) \nNella prima giornata è previsto l’aggiornamento lavoratori\, la formazione specifica rischio medio e le prime 8 ore della formazione specifica rischio alto. \nPrezzi del corso: \n\nFormazione Specifica Rischio Alto 175 € cad.\nFormazione Specifica Rischio Medio 120 € cad.\nAggiornamento Lavoratori 95 € cad.\n\nIl corso si svolgerà dalle 08.30 alle 12.30 e dalle 13.30 alle 17.30\nIl corso verrà erogato da un docente qualificato e prevede il rilascio di un attestato.\nLa validità della formazione prevede la frequenza del 90%. \nSCARICA IL MODULO DI ISCRIZIONE \nhttps://www.ausilio.it/wp-content/uploads/2023/05/MODULO-CORSO-GIUGNO.pdf \n 
URL:https://www.ausilio.it/corso/corso-misto-lavoratori-1-giornata-2/
LOCATION:Poliambulatorio Mediservice\, Via Costanzo II\, 11\, Forlì\, FC\, 47122\, Italy
CATEGORIES:Lavoratori
ATTACH;FMTTYPE=image/jpeg:https://www.ausilio.it/wp-content/uploads/2023/03/Lavoratori.jpg
END:VEVENT
BEGIN:VEVENT
DTSTART;TZID=Europe/Rome:20230608T083000
DTEND;TZID=Europe/Rome:20230608T123000
DTSTAMP:20260423T182109
CREATED:20230522T092144Z
LAST-MODIFIED:20230522T092649Z
UID:6790-1686213000-1686227400@www.ausilio.it
SUMMARY:Corso misto lavoratori (2 giornata)
DESCRIPTION:Corso Misto Lavoratori (recupero corso del 17 e 18 Maggio) \nNella seconda giornata è prevista la formazione specifica Rischio Alto. \nIl corso si svolgerà dalle 08.30 alle 12.30.\nIl corso verrà erogato da un docente qualificato e prevede il rilascio di un attestato.\nLa validità della formazione prevede la frequenza del 90%.
URL:https://www.ausilio.it/corso/corso-misto-lavoratori-2-giornata-3/
LOCATION:Poliambulatorio Mediservice\, Via Costanzo II\, 11\, Forlì\, FC\, 47122\, Italy
CATEGORIES:Lavoratori
ATTACH;FMTTYPE=image/jpeg:https://www.ausilio.it/wp-content/uploads/2023/03/Lavoratori.jpg
END:VEVENT
BEGIN:VEVENT
DTSTART;TZID=Europe/Rome:20230608T083000
DTEND;TZID=Europe/Rome:20230608T123000
DTSTAMP:20260423T182109
CREATED:20230524T073321Z
LAST-MODIFIED:20230524T074309Z
UID:6805-1686213000-1686227400@www.ausilio.it
SUMMARY:Formazione Generale + Specifica Rischio Medio
DESCRIPTION:Corso Formazione Generale + Specifica Rischio Medio \nPrima giornata di formazione generale. \n08/06/2023  dalle 08.30 alle 12.30 (4 ore) \n09/06/2023 dalle 08.30 alle 12.30 e dalle 13.30 alle 17.30 (8 ore) \n  \nCosto del corso: \n\n160 € cad. comprensivo di materiale\, test e attestato.\n\nIl corso verrà erogato da un docente qualificato e prevede il rilascio di un attestato.\nLa validità della formazione prevede la frequenza del 90%. \nMODULO DI ISCRIZIONE \nhttps://www.ausilio.it/wp-content/uploads/2023/05/MODULO-CORSO-generale-rischio-medio-1.pdf
URL:https://www.ausilio.it/corso/formazione-generale-specifica-rischio-medio-2/
LOCATION:Poliambulatorio Mediservice\, Via Costanzo II\, 11\, Forlì\, FC\, 47122\, Italy
CATEGORIES:Lavoratori
ATTACH;FMTTYPE=image/jpeg:https://www.ausilio.it/wp-content/uploads/2023/03/Lavoratori.jpg
END:VEVENT
BEGIN:VEVENT
DTSTART;TZID=Europe/Rome:20230609T083000
DTEND;TZID=Europe/Rome:20230609T173000
DTSTAMP:20260423T182109
CREATED:20230524T073321Z
LAST-MODIFIED:20230524T074642Z
UID:6806-1686299400-1686331800@www.ausilio.it
SUMMARY:Specifica Rischio Medio
DESCRIPTION:Formazione Generale + Specifica Rischio Medio \nSeconda giornata di formazione specifica. \n 
URL:https://www.ausilio.it/corso/specifica-rischio-medio/
LOCATION:Poliambulatorio Mediservice\, Via Costanzo II\, 11\, Forlì\, FC\, 47122\, Italy
CATEGORIES:Lavoratori
ATTACH;FMTTYPE=image/jpeg:https://www.ausilio.it/wp-content/uploads/2023/03/Lavoratori.jpg
END:VEVENT
END:VCALENDAR