BEGIN:VCALENDAR
VERSION:2.0
PRODID:-//Ausilio - ECPv6.15.11//NONSGML v1.0//EN
CALSCALE:GREGORIAN
METHOD:PUBLISH
X-ORIGINAL-URL:https://www.ausilio.it
X-WR-CALDESC:Eventi per Ausilio
REFRESH-INTERVAL;VALUE=DURATION:PT1H
X-Robots-Tag:noindex
X-PUBLISHED-TTL:PT1H
BEGIN:VTIMEZONE
TZID:Europe/Rome
BEGIN:DAYLIGHT
TZOFFSETFROM:+0100
TZOFFSETTO:+0200
TZNAME:CEST
DTSTART:20220327T010000
END:DAYLIGHT
BEGIN:STANDARD
TZOFFSETFROM:+0200
TZOFFSETTO:+0100
TZNAME:CET
DTSTART:20221030T010000
END:STANDARD
BEGIN:DAYLIGHT
TZOFFSETFROM:+0100
TZOFFSETTO:+0200
TZNAME:CEST
DTSTART:20230326T010000
END:DAYLIGHT
BEGIN:STANDARD
TZOFFSETFROM:+0200
TZOFFSETTO:+0100
TZNAME:CET
DTSTART:20231029T010000
END:STANDARD
BEGIN:DAYLIGHT
TZOFFSETFROM:+0100
TZOFFSETTO:+0200
TZNAME:CEST
DTSTART:20240331T010000
END:DAYLIGHT
BEGIN:STANDARD
TZOFFSETFROM:+0200
TZOFFSETTO:+0100
TZNAME:CET
DTSTART:20241027T010000
END:STANDARD
END:VTIMEZONE
BEGIN:VEVENT
DTSTART;TZID=Europe/Rome:20230919T083000
DTEND;TZID=Europe/Rome:20230919T173000
DTSTAMP:20260423T131038
CREATED:20230728T125249Z
LAST-MODIFIED:20230728T133847Z
UID:6990-1695112200-1695144600@www.ausilio.it
SUMMARY:Corso Misto Lavoratori 1 giornata
DESCRIPTION:Corso Misto Lavoratori \nNella prima giornata è previsto la formazione generale\, l’aggiornamento lavoratori\,  le prime 4 ore della formazione specifica rischio alto e medio. \nPrezzi del corso: \n\nFormazione Specifica Rischio Alto (12 ore) 175 € cad. (orario dalle 13.30 alle 17.30);\nFormazione Specifica Rischio Medio (8 ore) 120 € cad. (orario  dalle 13.30 alle 17.30);\nAggiornamento Lavoratori (6 ore)  95 € cad. (orario dalle 08.30 alle 12.30 e dalle 13.30 alle 15.30);\nFormazione Generale + Specifica Rischio Alto (16 ore) 185 € cad. (orario dalle 08.30 alle 12.30 e dalle 13.30 alle 17.30)\n\nIl corso verrà erogato da un docente qualificato e prevede il rilascio di un attestato.\nLa validità della formazione prevede la frequenza del 90%. \n  \nSCARICA IL MODULO DI ISCRIZIONE \nhttps://www.ausilio.it/wp-content/uploads/2023/07/MODULO-CORSO-generale-rischio-alto-SETTEMBRE.pdf \nhttps://www.ausilio.it/wp-content/uploads/2023/07/MODULO-CORSO-LAVORATORI-RISCHIO-ALTO-SETTEMBRE.pdf \nhttps://www.ausilio.it/wp-content/uploads/2023/07/MODULO-CORSO-SPECIFICA-RISCHIO-MEDIO-SETTEMBRE.pdf \nhttps://www.ausilio.it/wp-content/uploads/2023/07/MODULO-CORSO-AGGIORNAMENTO-LAVORATORI-SETTEMBRE.pdf
URL:https://www.ausilio.it/corso/corso-misto-lavoratori-1-giornata-3/
LOCATION:Poliambulatorio Mediservice\, Via Costanzo II\, 11\, Forlì\, FC\, 47122\, Italy
CATEGORIES:Lavoratori
ATTACH;FMTTYPE=image/jpeg:https://www.ausilio.it/wp-content/uploads/2023/03/Lavoratori.jpg
END:VEVENT
BEGIN:VEVENT
DTSTART;TZID=Europe/Rome:20230929T083000
DTEND;TZID=Europe/Rome:20230929T173000
DTSTAMP:20260423T131038
CREATED:20230728T125816Z
LAST-MODIFIED:20230728T134039Z
UID:6992-1695976200-1696008600@www.ausilio.it
SUMMARY:Corso Misto Lavoratori 2 giornata
DESCRIPTION:Corso Misto Lavoratori \nNella seconda giornata sono previste le ultime 8 ore della Formazione specifica Rischio Alto e le 4 ore della Formazione Specifica Rischio Medio \nIl corso verrà erogato da un docente qualificato e prevede il rilascio di un attestato.\nLa validità della formazione prevede la frequenza del 90%.
URL:https://www.ausilio.it/corso/corso-misto-lavoratori-2-giornata-4/
LOCATION:Poliambulatorio Mediservice\, Via Costanzo II\, 11\, Forlì\, FC\, 47122\, Italy
CATEGORIES:Lavoratori
ATTACH;FMTTYPE=image/jpeg:https://www.ausilio.it/wp-content/uploads/2023/03/Lavoratori.jpg
END:VEVENT
END:VCALENDAR