BEGIN:VCALENDAR
VERSION:2.0
PRODID:-//Ausilio - ECPv6.15.11//NONSGML v1.0//EN
CALSCALE:GREGORIAN
METHOD:PUBLISH
X-WR-CALNAME:Ausilio
X-ORIGINAL-URL:https://www.ausilio.it
X-WR-CALDESC:Eventi per Ausilio
REFRESH-INTERVAL;VALUE=DURATION:PT1H
X-Robots-Tag:noindex
X-PUBLISHED-TTL:PT1H
BEGIN:VTIMEZONE
TZID:Europe/Rome
BEGIN:DAYLIGHT
TZOFFSETFROM:+0100
TZOFFSETTO:+0200
TZNAME:CEST
DTSTART:20230326T010000
END:DAYLIGHT
BEGIN:STANDARD
TZOFFSETFROM:+0200
TZOFFSETTO:+0100
TZNAME:CET
DTSTART:20231029T010000
END:STANDARD
BEGIN:DAYLIGHT
TZOFFSETFROM:+0100
TZOFFSETTO:+0200
TZNAME:CEST
DTSTART:20240331T010000
END:DAYLIGHT
BEGIN:STANDARD
TZOFFSETFROM:+0200
TZOFFSETTO:+0100
TZNAME:CET
DTSTART:20241027T010000
END:STANDARD
BEGIN:DAYLIGHT
TZOFFSETFROM:+0100
TZOFFSETTO:+0200
TZNAME:CEST
DTSTART:20250330T010000
END:DAYLIGHT
BEGIN:STANDARD
TZOFFSETFROM:+0200
TZOFFSETTO:+0100
TZNAME:CET
DTSTART:20251026T010000
END:STANDARD
END:VTIMEZONE
BEGIN:VEVENT
DTSTART;TZID=Europe/Rome:20240227T083000
DTEND;TZID=Europe/Rome:20240227T173000
DTSTAMP:20260423T041153
CREATED:20240116T140854Z
LAST-MODIFIED:20240116T142140Z
UID:7199-1709022600-1709055000@www.ausilio.it
SUMMARY:Corso Misto Lavoratori 1 giornata
DESCRIPTION:Corso Misto Lavoratori \nNella prima giornata è prevista la formazione generale\, l’aggiornamento lavoratori\,  le prime 4 ore della formazione specifica rischio alto e la formazione specifica rischio medio. \nPrezzi del corso: \n\nFormazione Specifica Rischio Alto (12 ore) 175 € cad. (orario dalle 13.30 alle 17.30);\nFormazione Specifica Rischio Medio (8 ore) 120 € cad. (orario  dalle 08.30 alle 12.30 e dalle 13.30 alle 17.30);\nAggiornamento Lavoratori (6 ore)  95 € cad. (orario dalle 08.30 alle 12.30 e dalle 13.30 alle 15.30);\nFormazione Generale + Specifica Rischio Alto (16 ore) 185 € cad. (orario dalle 08.30 alle 12.30 e dalle 13.30 alle 17.30)\n\nIl corso verrà erogato da un docente qualificato e prevede il rilascio di un attestato.\nLa validità della formazione prevede la frequenza del 90%. \nSCARICA I MODULI D’ISCRIZIONE \nFORMAZIONE GENERALE + SPECIFICA RISCHIO ALTO \nFORMAZIONE SPECIFICA RISCHIO ALTO \nFORMAZIONE SPECIFICA RISCHIO MEDIO \nAGGIORNAMENTO LAVORATORI \n 
URL:https://www.ausilio.it/corso/corso-misto-lavoratori-1-giornata-4/
LOCATION:Poliambulatorio Mediservice\, Via Costanzo II\, 11\, Forlì\, FC\, 47122\, Italy
CATEGORIES:Lavoratori
ATTACH;FMTTYPE=image/jpeg:https://www.ausilio.it/wp-content/uploads/2023/03/Lavoratori.jpg
END:VEVENT
END:VCALENDAR