BEGIN:VCALENDAR
VERSION:2.0
PRODID:-//Ausilio - ECPv6.15.11//NONSGML v1.0//EN
CALSCALE:GREGORIAN
METHOD:PUBLISH
X-ORIGINAL-URL:https://www.ausilio.it
X-WR-CALDESC:Eventi per Ausilio
REFRESH-INTERVAL;VALUE=DURATION:PT1H
X-Robots-Tag:noindex
X-PUBLISHED-TTL:PT1H
BEGIN:VTIMEZONE
TZID:Europe/Rome
BEGIN:DAYLIGHT
TZOFFSETFROM:+0100
TZOFFSETTO:+0200
TZNAME:CEST
DTSTART:20250330T010000
END:DAYLIGHT
BEGIN:STANDARD
TZOFFSETFROM:+0200
TZOFFSETTO:+0100
TZNAME:CET
DTSTART:20251026T010000
END:STANDARD
BEGIN:DAYLIGHT
TZOFFSETFROM:+0100
TZOFFSETTO:+0200
TZNAME:CEST
DTSTART:20260329T010000
END:DAYLIGHT
BEGIN:STANDARD
TZOFFSETFROM:+0200
TZOFFSETTO:+0100
TZNAME:CET
DTSTART:20261025T010000
END:STANDARD
BEGIN:DAYLIGHT
TZOFFSETFROM:+0100
TZOFFSETTO:+0200
TZNAME:CEST
DTSTART:20270328T010000
END:DAYLIGHT
BEGIN:STANDARD
TZOFFSETFROM:+0200
TZOFFSETTO:+0100
TZNAME:CET
DTSTART:20271031T010000
END:STANDARD
END:VTIMEZONE
BEGIN:VEVENT
DTSTART;TZID=Europe/Rome:20260428T083000
DTEND;TZID=Europe/Rome:20260430T173000
DTSTAMP:20260421T133200
CREATED:20260417T102054Z
LAST-MODIFIED:20260417T102400Z
UID:9024-1777365000-1777570200@www.ausilio.it
SUMMARY:Corso Lavoratori Aprile 2026
DESCRIPTION:Corso Lavoratori \nPrezzi del corso: \n\nFormazione Specifica Rischio Alto (12 ore) 175 € cad.\nFormazione Generale + Specifica Rischio Alto (16 ore) 185 € cad.\n\nIl corso verrà erogato da un docente qualificato e prevede il rilascio di un attestato.\nLa validità della formazione prevede la frequenza del 90%. \nSCARICA I MODULI D’ISCRIZIONE: \nFORMAZIONE GENERALE + SPECIFICA RISCHIO ALTO \nFORMAZIONE SPECIFICA RISCHIO ALTO
URL:https://www.ausilio.it/corso/corso-lavoratori-aprile-2026/
LOCATION:Poliambulatorio Mediservice\, Via Costanzo II\, 11\, Forlì\, FC\, 47122\, Italy
CATEGORIES:Lavoratori
ATTACH;FMTTYPE=image/jpeg:https://www.ausilio.it/wp-content/uploads/2023/03/Lavoratori.jpg
ORGANIZER;CN="AUSILIO Spa":MAILTO:formazione@ausilio.it
END:VEVENT
BEGIN:VEVENT
DTSTART;TZID=Europe/Rome:20260513T083000
DTEND;TZID=Europe/Rome:20260519T173000
DTSTAMP:20260421T133200
CREATED:20260417T102719Z
LAST-MODIFIED:20260417T103300Z
UID:9041-1778661000-1779211800@www.ausilio.it
SUMMARY:Corso Primo Soccorso (Maggio 2026)
DESCRIPTION:Corso Primo Soccorso: \nPrezzi del corso: \n\nEx Novo Primo Soccorso Gruppo A 16 ore 180 € cad.   (13-19 Maggio 2026 dalle 08.30 alle 12.30 e dalle 13.30 alle 17.30 entrambe le giornate);\nEx Novo Primo Soccorso Gruppo B – C 12 ore 155 € cad.  (13 Maggio 2026 dalle 13.30 alle 17.30 e 19 Maggio 2026 dalle 08.30 alle 12.30 e dalle 13.30 alle 17.30);\nAggiornamento Primo Soccorso Gruppo A 6 ore 95 € cad.  (19 Maggio 2026 dalle 10.30 alle 12.30 e dalle 13.30 alle 17.30);\nAggiornamento Primo Soccorso Gruppo B – C  4 ore 85 € cad. (19 Maggio 2026 dalle 13.30 alle 17.30)\n\nIl corso verrà erogato da un docente qualificato e prevede il rilascio di un attestato.\nLa validità della formazione prevede la frequenza del 90%. \nSCARICA I MODULI D’ISCRIZIONE: \nEX NOVO PRIMO SOCCORSO GRUPPO A \nEX NOVO PRIMO SOCCORSO GRUPPO B-C \nAGGIORNAMENTO PRIMO SOCCORSO GRUPPO A \nAGGIORNAMENTO PRIMO SOCCORSO GRUPPO B-C \n 
URL:https://www.ausilio.it/corso/9041/
LOCATION:Poliambulatorio Mediservice\, Via Costanzo II\, 11\, Forlì\, FC\, 47122\, Italy
CATEGORIES:Primo Soccorso
ATTACH;FMTTYPE=image/jpeg:https://www.ausilio.it/wp-content/uploads/2023/02/primosoccorso.jpg
ORGANIZER;CN="AUSILIO Spa":MAILTO:formazione@ausilio.it
END:VEVENT
BEGIN:VEVENT
DTSTART;TZID=Europe/Rome:20260618T083000
DTEND;TZID=Europe/Rome:20260618T173000
DTSTAMP:20260421T133200
CREATED:20260417T102523Z
LAST-MODIFIED:20260417T104153Z
UID:9037-1781771400-1781803800@www.ausilio.it
SUMMARY:Corso Antincendio (Giugno 2026)
DESCRIPTION:Corso Misto Antincendio \nPrezzi del corso: \n\nEx Novo Antincendio Liv. 2 (ex rischio medio) 8 ore 175 € cad.\nAggiornamento Antincendio Liv. 2 (ex rischio medio) 5 ore 120 € cad.;\nAggiornamento Antincendio Liv. 3 (ex rischio alto) 8 ore 175 € cad;\nEx Novo Antincendio Liv. 1 (ex rischio basso) 4 ore 100 € cad.\nAggiornamento Antincendio Liv. 1 (ex rischio basso) 2 ore 55 € cad.\n\nOrario corsi: \nIl corso si svolgerà dalle 08.30 alle 12.30 presso il Poliambulatorio Mediservice Forlì in Via Costanzo II\, 11 e dalle 13.30 alle 17.30 presso il campo prove della docente.  (ex novo livello 2 e aggiornamento livello 3); \nAggiornamento livello 2 (dalle 11.30 alle 12.30 e dalle 13.30 alle 17.30). \nEx Novo livello 1 (dalle 10.30 alle 12.30 e dalle 13.30 alle 15.30). \nAggiornamento livello 1 (dalle 10.30 alle 12.30) \nIl corso verrà erogato da un docente qualificato e prevede il rilascio di un attestato.\nLa validità della formazione prevede la frequenza del 90%. \nSCARICA I MODULI D’ISCRIZIONE: \nEX NOVO ANTINCENDIO LIVELLO 2 \nAGGIORNAMENTO ANTINCENDIO LIVELLO 3 \nAGGIORNAMENTO ANTINCENDIO LIVELLO 2 \nEX NOVO ANTINCENDIO LIVELLO 1 \nAGGIORNAMENTO ANTINCENDIO LIVELLO 1
URL:https://www.ausilio.it/corso/corso-antincendio-giugno-2026/
LOCATION:Poliambulatorio Mediservice\, Via Costanzo II\, 11\, Forlì\, FC\, 47122\, Italy
CATEGORIES:Antincendio
ATTACH;FMTTYPE=image/jpeg:https://www.ausilio.it/wp-content/uploads/2023/02/antincendio-1.jpg
ORGANIZER;CN="AUSILIO Spa":MAILTO:formazione@ausilio.it
END:VEVENT
END:VCALENDAR